BEGIN:VCALENDAR
VERSION:2.0
PRODID:-//Life Worldwide - ECPv5.1.4//NONSGML v1.0//EN
CALSCALE:GREGORIAN
METHOD:PUBLISH
X-WR-CALNAME:Life Worldwide
X-ORIGINAL-URL:https://lifeworldwide.com.au
X-WR-CALDESC:Events for Life Worldwide
BEGIN:VTIMEZONE
TZID:Europe/Paris
BEGIN:DAYLIGHT
TZOFFSETFROM:+0100
TZOFFSETTO:+0200
TZNAME:CEST
DTSTART:20200329T010000
END:DAYLIGHT
BEGIN:STANDARD
TZOFFSETFROM:+0200
TZOFFSETTO:+0100
TZNAME:CET
DTSTART:20201025T010000
END:STANDARD
END:VTIMEZONE
BEGIN:VEVENT
DTSTART;TZID=Europe/Paris:20201122T080000
DTEND;TZID=Europe/Paris:20201122T170000
DTSTAMP:20210226T070343
CREATED:20200620T140650Z
LAST-MODIFIED:20200620T140650Z
UID:1964-1606032000-1606064400@lifeworldwide.com.au
SUMMARY:Young Guns - Lunch & Learn
DESCRIPTION:
URL:https://lifeworldwide.com.au/event/young-guns-lunch-learn-5/
END:VEVENT
END:VCALENDAR