BEGIN:VCALENDAR
VERSION:2.0
PRODID:-//Life Worldwide - ECPv5.1.4//NONSGML v1.0//EN
CALSCALE:GREGORIAN
METHOD:PUBLISH
X-WR-CALNAME:Life Worldwide
X-ORIGINAL-URL:https://lifeworldwide.com.au
X-WR-CALDESC:Events for Life Worldwide
BEGIN:VTIMEZONE
TZID:Europe/Paris
BEGIN:DAYLIGHT
TZOFFSETFROM:+0100
TZOFFSETTO:+0200
TZNAME:CEST
DTSTART:20200329T010000
END:DAYLIGHT
BEGIN:STANDARD
TZOFFSETFROM:+0200
TZOFFSETTO:+0100
TZNAME:CET
DTSTART:20201025T010000
END:STANDARD
END:VTIMEZONE
BEGIN:VEVENT
DTSTART;TZID=Europe/Paris:20201018T080000
DTEND;TZID=Europe/Paris:20201018T170000
DTSTAMP:20210226T070911
CREATED:20200620T140458Z
LAST-MODIFIED:20200620T140458Z
UID:1954-1603008000-1603040400@lifeworldwide.com.au
SUMMARY:Young Guns - Lunch & Learn
DESCRIPTION:
URL:https://lifeworldwide.com.au/event/young-guns-lunch-learn-4/
END:VEVENT
END:VCALENDAR