BEGIN:VCALENDAR
VERSION:2.0
PRODID:-//Life Worldwide - ECPv5.1.4//NONSGML v1.0//EN
CALSCALE:GREGORIAN
METHOD:PUBLISH
X-WR-CALNAME:Life Worldwide
X-ORIGINAL-URL:https://lifeworldwide.com.au
X-WR-CALDESC:Events for Life Worldwide
BEGIN:VTIMEZONE
TZID:Europe/Paris
BEGIN:DAYLIGHT
TZOFFSETFROM:+0100
TZOFFSETTO:+0200
TZNAME:CEST
DTSTART:20200329T010000
END:DAYLIGHT
BEGIN:STANDARD
TZOFFSETFROM:+0200
TZOFFSETTO:+0100
TZNAME:CET
DTSTART:20201025T010000
END:STANDARD
END:VTIMEZONE
BEGIN:VEVENT
DTSTART;VALUE=DATE:20200701
DTEND;VALUE=DATE:20200702
DTSTAMP:20210226T070440
CREATED:20200618T104834Z
LAST-MODIFIED:20200622T055841Z
UID:1815-1593561600-1593647999@lifeworldwide.com.au
SUMMARY:Raw & Real with special guest Tony Zikas of Australian Money Mentors
DESCRIPTION:
URL:https://lifeworldwide.com.au/event/raw-real-with-special-guest-tony-zikas-of-australian-money-mentors/
END:VEVENT
END:VCALENDAR