BEGIN:VCALENDAR
VERSION:2.0
PRODID:-//Life Worldwide - ECPv5.1.4//NONSGML v1.0//EN
CALSCALE:GREGORIAN
METHOD:PUBLISH
X-WR-CALNAME:Life Worldwide
X-ORIGINAL-URL:https://lifeworldwide.com.au
X-WR-CALDESC:Events for Life Worldwide
BEGIN:VTIMEZONE
TZID:Europe/Paris
BEGIN:DAYLIGHT
TZOFFSETFROM:+0100
TZOFFSETTO:+0200
TZNAME:CEST
DTSTART:20200329T010000
END:DAYLIGHT
BEGIN:STANDARD
TZOFFSETFROM:+0200
TZOFFSETTO:+0100
TZNAME:CET
DTSTART:20201025T010000
END:STANDARD
END:VTIMEZONE
BEGIN:VEVENT
DTSTART;VALUE=DATE:20200812
DTEND;VALUE=DATE:20200813
DTSTAMP:20210226T071140
CREATED:20200706T060852Z
LAST-MODIFIED:20200707T062527Z
UID:2336-1597190400-1597276799@lifeworldwide.com.au
SUMMARY:Lunch & Learn POSTPONED
DESCRIPTION:
URL:https://lifeworldwide.com.au/event/lunch-learn/
LOCATION:Gradi Brunswick
END:VEVENT
END:VCALENDAR