BEGIN:VCALENDAR
VERSION:2.0
PRODID:-//Life Worldwide - ECPv5.1.4//NONSGML v1.0//EN
CALSCALE:GREGORIAN
METHOD:PUBLISH
X-WR-CALNAME:Life Worldwide
X-ORIGINAL-URL:https://lifeworldwide.com.au
X-WR-CALDESC:Events for Life Worldwide
BEGIN:VTIMEZONE
TZID:Europe/Paris
BEGIN:DAYLIGHT
TZOFFSETFROM:+0100
TZOFFSETTO:+0200
TZNAME:CEST
DTSTART:20200329T010000
END:DAYLIGHT
BEGIN:STANDARD
TZOFFSETFROM:+0200
TZOFFSETTO:+0100
TZNAME:CET
DTSTART:20201025T010000
END:STANDARD
END:VTIMEZONE
BEGIN:VEVENT
DTSTART;VALUE=DATE:20200708
DTEND;VALUE=DATE:20200709
DTSTAMP:20210226T070525
CREATED:20200618T104904Z
LAST-MODIFIED:20200707T062132Z
UID:1819-1594166400-1594252799@lifeworldwide.com.au
SUMMARY:Lunch & Learn POSTPONED
DESCRIPTION:
URL:https://lifeworldwide.com.au/event/lunch-learn-7/
END:VEVENT
END:VCALENDAR